BEGIN:VCALENDAR
VERSION:2.0
PRODID:-//Bike Winnipeg - ECPv5.3.1.1//NONSGML v1.0//EN
CALSCALE:GREGORIAN
METHOD:PUBLISH
X-WR-CALNAME:Bike Winnipeg
X-ORIGINAL-URL:http://v4.bikewinnipeg.ca
X-WR-CALDESC:Events for Bike Winnipeg
BEGIN:VTIMEZONE
TZID:America/Winnipeg
BEGIN:DAYLIGHT
TZOFFSETFROM:-0600
TZOFFSETTO:-0500
TZNAME:CDT
DTSTART:20140309T080000
END:DAYLIGHT
BEGIN:STANDARD
TZOFFSETFROM:-0500
TZOFFSETTO:-0600
TZNAME:CST
DTSTART:20141102T070000
END:STANDARD
END:VTIMEZONE
BEGIN:VEVENT
DTSTART;TZID=America/Winnipeg:20140812T180000
DTEND;TZID=America/Winnipeg:20140812T193000
DTSTAMP:20260422T195626
CREATED:20140805T173122Z
LAST-MODIFIED:20140805T173122Z
UID:3898-1407866400-1407871800@v4.bikewinnipeg.ca
SUMMARY:Bike Winnipeg Monthly Meeting
DESCRIPTION:Join us at the Sport for Life Centre (145 Pacific at Lily) for our bi-monthly business meeting. Bikes can be parked inside the building in a locked room that is beside the main doors and in direct view of the security desk.  Everyone is welcome\, but please make sure to sign in at the front desk. \nAgenda \n\nIntroductions\nApproval of Agenda\nApproval of Bike Winnipeg June 2014 Monthly Meeting Minutes\nInternal Committee Reports\n\nExecutive\nFinance Report\nPolicy Report\n\n\nBike Winnipeg August 2014 Executive Director’s Report\nCalendar – Upcoming Events
URL:http://v4.bikewinnipeg.ca/event/bike-winnipeg-monthly-meeting-4/
LOCATION:Sport For Life Centre\, 145 Pacific Ave at Lily St\, Winnipeg\, MB\, Canada
CATEGORIES:BW Monthly Meetings
END:VEVENT
END:VCALENDAR