BEGIN:VCALENDAR
VERSION:2.0
PRODID:-//Bike Winnipeg - ECPv5.3.1.1//NONSGML v1.0//EN
CALSCALE:GREGORIAN
METHOD:PUBLISH
X-WR-CALNAME:Bike Winnipeg
X-ORIGINAL-URL:http://v4.bikewinnipeg.ca
X-WR-CALDESC:Events for Bike Winnipeg
BEGIN:VTIMEZONE
TZID:America/Winnipeg
BEGIN:DAYLIGHT
TZOFFSETFROM:-0600
TZOFFSETTO:-0500
TZNAME:CDT
DTSTART:20140309T080000
END:DAYLIGHT
BEGIN:STANDARD
TZOFFSETFROM:-0500
TZOFFSETTO:-0600
TZNAME:CST
DTSTART:20141102T070000
END:STANDARD
END:VTIMEZONE
BEGIN:VEVENT
DTSTART;TZID=America/Winnipeg:20140823T100000
DTEND;TZID=America/Winnipeg:20140823T173000
DTSTAMP:20260422T181429
CREATED:20140821T204115Z
LAST-MODIFIED:20140821T204115Z
UID:3914-1408788000-1408815000@v4.bikewinnipeg.ca
SUMMARY:August 2014 Skullspace Hackathon: BIKES!
DESCRIPTION:Winnipeg hackers unite for a day of events focused on bikes\nThe August Skullspace Hackathon is all about bikes! \n10:00-12:00: Discussion / presentations on bike-related electronics and mobile applications. \n12:30-13:30: Basic bike maintenance workshop (ABC’s)\nLearn how to do some very basic bike maintenance and what to look for on your bike to ensure you are safe \n13:30-14:30: Tire changing / tube patching workshop\nLearn proper procedures\, tips and tricks for changing tires and patching tubes. \n14:30-17:00: Fix your bike!\nWe will have tools and mechanics on-hand to help you fix / tune-up your ride. \nCONCURRENT SESSION – 12:30-17:00 Bike electronics / decorating!\nBring down your EL wire\, LEDs\, and electronics projects. decorate your bike for our group ride. We will have experienced electronics experts on-hand to help you with projects if needed. \n17:30 Group Ride! Destination TBA \nhttp://www.meetup.com/Skullspace-Winnipegs-hackerspace/events/191113032/
URL:http://v4.bikewinnipeg.ca/event/august-2014-skullspace-hackathon-bikes/
LOCATION:Skullspace\, 374 Donald Street\, 2nd floor\, Winnipeg\, Manitoba\, Canada
CATEGORIES:Bicycle Culture,Bicycle Repair Workshops
ATTACH;FMTTYPE=image/jpeg:http://v4.bikewinnipeg.ca/wordpress/wp-content/uploads/2014/08/skull_space_bike_hackathon.jpg
END:VEVENT
END:VCALENDAR